BEGIN:VCALENDAR
VERSION:2.0
PRODID:-//ChamberMaster//Event Calendar 2.0//EN
METHOD:PUBLISH
X-PUBLISHED-TTL:P3D
REFRESH-INTERVAL:P3D
CALSCALE:GREGORIAN
BEGIN:VEVENT
DTSTART:20260502T003000Z
DTEND:20260502T013000Z
X-MICROSOFT-CDO-ALLDAYEVENT:FALSE
SUMMARY:VIVA Community Health Event
DESCRIPTION:We're hosting a community event focused on healthier homes\, cleaner air\, and stronger neighborhoods. Come connect\, learn\, and enjoy a free dinner with us.
X-ALT-DESC;FMTTYPE=text/html:<span style="color: rgb(8\, 8\, 9)\; font-family: &quot\;Segoe UI Historic&quot\;\, &quot\;Segoe UI&quot\;\, Helvetica\, Arial\, sans-serif\; font-size: 15px\; white-space-collapse: preserve\; background-color: rgb(255\, 255\, 255)\;">We&rsquo\;re hosting a community event focused on healthier homes\, cleaner air\, and stronger neighborhoods. Come connect\, learn\, and enjoy a free dinner with us.</span>
LOCATION:Chowchilla Library\, 300 Kings Ave
UID:e.3058.2194
SEQUENCE:3
DTSTAMP:20260424T205753Z
URL:http://chowchillachamber.org/events/details/viva-community-health-event-2194
END:VEVENT

END:VCALENDAR
